BEGIN:VCALENDAR
VERSION:2.0
PRODID:-//Wellbeing At Work - ECPv5.9.1//NONSGML v1.0//EN
CALSCALE:GREGORIAN
METHOD:PUBLISH
X-WR-CALNAME:Wellbeing At Work
X-ORIGINAL-URL:https://wellbeingatwork.lu/fr/
X-WR-CALDESC:évènements pour Wellbeing At Work
BEGIN:VTIMEZONE
TZID:Europe/Luxembourg
BEGIN:DAYLIGHT
TZOFFSETFROM:+0100
TZOFFSETTO:+0200
TZNAME:CEST
DTSTART:20210328T010000
END:DAYLIGHT
BEGIN:STANDARD
TZOFFSETFROM:+0200
TZOFFSETTO:+0100
TZNAME:CET
DTSTART:20211031T010000
END:STANDARD
END:VTIMEZONE
BEGIN:VEVENT
DTSTART;VALUE=DATE:20210503
DTEND;VALUE=DATE:20210505
DTSTAMP:20211008T185205
CREATED:20181213T165608Z
LAST-MODIFIED:20210402T094152Z
UID:2714-1620000000-1620172799@wellbeingatwork.lu
SUMMARY:Resilienzförderung in Kindertageseinrichtungen
DESCRIPTION:Anerkannte Weiterbildung vom MEN: Validation no. 2018_10_ANB_81 \nIn der Fortbildung wird der Grundgedanke der Resilienzförderung vermittelt und die Erzieher/-innen werden dazu angeregt\, das Programm zur Resilienzförderung mit den Kindern (PRiK\, s. u.) und den Eltern durchzuführen. \nZiele \n\nKonzepte und Methoden werden eingeübt\, auf deren Grundlage Kindertageseinrichtungen sich zu resilienzforderlichen Organisationen weiterentwickeln können.\nDie Teilnehmer werden zur Selbstreflexion angeregt\, welche einen zentralen Platz einnimmt da auf Grundlage der eigenen Resilienzfähigkeiten resilientes Verhalten anderer akiviert werden kann.\nAuseinandersetzung mit Methoden der Resilienzförderung für die Erzieher selbst sowie auch die Resilienzförderung von Kindern im pedagogischen Alltag.\nStärkung der stärkeorientierten Zusammenarbeit mit Eltern.\n\nProgramm \n\nWas ist Resilienz?\nResilienz\, emotionale Intelligenz\, Salutogenese und Stressbewältigung\, wie hängen sie zusammen?\nResilienz bei Kindern – wichtige Schutzfaktoren\n7 Säulen der Resilienz\nStrategien und Tools um Resilienz aufzubauen\nFörderung der Resilienz im Alltag mit Kindern\nIndividuelle Resilienz – Resilienz im Unternehmen\nÜbertragung der Kenntnisse\nIndividueller Aktionsplan\n\nMethoden \nAbwechslungsreiche Methoden von Theorie über Selbstreflexion\, Gruppenaustausch und Rollenspielen. \nDauer \n2 Tage von 9 – 17 Uhr \nOrt   \nURBAN Office Belval \nAnmeldung und Bestätigung der Einschreibung \nAnmeldung mit dem beigefügten Formular per e-mail an: info@wellbeing.lu \nAnmeldungen sind möglich bis spätestens 2 Wochen vor dem aktuellen Termin. Die Einschreibung ist nur gültig wenn die Zahlung der Rechnung erfolgt ist und nachgewiesen werden kann. \nAnmeldeformular
URL:https://wellbeingatwork.lu/fr/event/resilienzfoerderung-in-kindertageseinrichtungen-4-2-2/2021-05-03
LOCATION:Urban Office Luxemburg-Zentrum\, 2-4\, rue du Nord\, Luxembourg\, 2229\, Luxembourg
CATEGORIES:Enfance Jeunesse
ATTACH;FMTTYPE=image/jpeg:https://wellbeingatwork.lu/wp-content/uploads/2018/12/RESILIENZ-Frog-e1547465228332.jpg
ORGANIZER;CN="Wellbeing%20At%20Work":MAILTO:info@wellbeing.lu
END:VEVENT
BEGIN:VEVENT
DTSTART;VALUE=DATE:20210510
DTEND;VALUE=DATE:20210512
DTSTAMP:20211008T185206
CREATED:20181213T165608Z
LAST-MODIFIED:20210402T094152Z
UID:4491-1620604800-1620777599@wellbeingatwork.lu
SUMMARY:Resilienzförderung in Kindertageseinrichtungen
DESCRIPTION:Anerkannte Weiterbildung vom MEN: Validation no. 2018_10_ANB_81 \nIn der Fortbildung wird der Grundgedanke der Resilienzförderung vermittelt und die Erzieher/-innen werden dazu angeregt\, das Programm zur Resilienzförderung mit den Kindern (PRiK\, s. u.) und den Eltern durchzuführen. \nZiele \n\nKonzepte und Methoden werden eingeübt\, auf deren Grundlage Kindertageseinrichtungen sich zu resilienzforderlichen Organisationen weiterentwickeln können.\nDie Teilnehmer werden zur Selbstreflexion angeregt\, welche einen zentralen Platz einnimmt da auf Grundlage der eigenen Resilienzfähigkeiten resilientes Verhalten anderer akiviert werden kann.\nAuseinandersetzung mit Methoden der Resilienzförderung für die Erzieher selbst sowie auch die Resilienzförderung von Kindern im pedagogischen Alltag.\nStärkung der stärkeorientierten Zusammenarbeit mit Eltern.\n\nProgramm \n\nWas ist Resilienz?\nResilienz\, emotionale Intelligenz\, Salutogenese und Stressbewältigung\, wie hängen sie zusammen?\nResilienz bei Kindern – wichtige Schutzfaktoren\n7 Säulen der Resilienz\nStrategien und Tools um Resilienz aufzubauen\nFörderung der Resilienz im Alltag mit Kindern\nIndividuelle Resilienz – Resilienz im Unternehmen\nÜbertragung der Kenntnisse\nIndividueller Aktionsplan\n\nMethoden \nAbwechslungsreiche Methoden von Theorie über Selbstreflexion\, Gruppenaustausch und Rollenspielen. \nDauer \n2 Tage von 9 – 17 Uhr \nOrt   \nURBAN Office Belval \nAnmeldung und Bestätigung der Einschreibung \nAnmeldung mit dem beigefügten Formular per e-mail an: info@wellbeing.lu \nAnmeldungen sind möglich bis spätestens 2 Wochen vor dem aktuellen Termin. Die Einschreibung ist nur gültig wenn die Zahlung der Rechnung erfolgt ist und nachgewiesen werden kann. \nAnmeldeformular
URL:https://wellbeingatwork.lu/fr/event/resilienzfoerderung-in-kindertageseinrichtungen-4-2-2/2021-05-10
LOCATION:Urban Office Luxemburg-Zentrum\, 2-4\, rue du Nord\, Luxembourg\, 2229\, Luxembourg
CATEGORIES:Enfance Jeunesse
ATTACH;FMTTYPE=image/jpeg:https://wellbeingatwork.lu/wp-content/uploads/2018/12/RESILIENZ-Frog-e1547465228332.jpg
ORGANIZER;CN="Wellbeing%20At%20Work":MAILTO:info@wellbeing.lu
END:VEVENT
END:VCALENDAR