BEGIN:VCALENDAR
VERSION:2.0
PRODID:-//Wellbeing At Work - ECPv5.9.1//NONSGML v1.0//EN
CALSCALE:GREGORIAN
METHOD:PUBLISH
X-WR-CALNAME:Wellbeing At Work
X-ORIGINAL-URL:https://wellbeingatwork.lu/de/
X-WR-CALDESC:Veranstaltungen für Wellbeing At Work
BEGIN:VTIMEZONE
TZID:Europe/Luxembourg
BEGIN:DAYLIGHT
TZOFFSETFROM:+0100
TZOFFSETTO:+0200
TZNAME:CEST
DTSTART:20210328T010000
END:DAYLIGHT
BEGIN:STANDARD
TZOFFSETFROM:+0200
TZOFFSETTO:+0100
TZNAME:CET
DTSTART:20211031T010000
END:STANDARD
END:VTIMEZONE
BEGIN:VEVENT
DTSTART;TZID=Europe/Luxembourg:20211004T090000
DTEND;TZID=Europe/Luxembourg:20211004T120000
DTSTAMP:20211008T043723
CREATED:20210719T222004Z
LAST-MODIFIED:20210727T191530Z
UID:4571-1633338000-1633348800@wellbeingatwork.lu
SUMMARY:AAPP - Accompagnement et analyse de la pratique professionnelle
DESCRIPTION:Formation professionnelle continue validée\nPour Chargé de Direction de Maison Relais et Crèches\nVALIDATION par le Ministère de l’éducation nationale\, de l’enfance et de la jeunesse\nsous le no.2021_05_ANB_030 pour 18h au total  (6 séances de 3h à intervalle de 1 mois) \nDéfinition\nL’Accompagnement d’Analyse des Pratiques Professionnelles (A.A.P.P.) est un espace qui permet à un groupe de professionnels de réfléchir sur leur pratique par le biais de l’intervention d’un professionnel extérieur\, formé à l’exercice. C’est un lieu de partage\, d’échange et d’écoute réciproque sur l’activité professionnelle à visée formative mais aux bénéfices multiples. \nObjectifs et bénéfices\n\nProposer un espace d’accueil et de mise en mots du vécu professionnel en lien à la relation avec l’usager/le patient et à ses difficultés.\nFavoriser l’expression et l’accueil des différences de points de vue dans la mise en œuvre des actions éducatives/de soin\nÉcouter et accueillir les impacts émotionnels tout en accompagnant l’émergence des ressources individuelles et collectives\nPermettre une prise de recul et de réflexion quant à ses propres modes de fonctionnement et à ses interventions\nPermettre l’émergence d’hypothèses\, de solutions.\nFavoriser la créativité et la production d’options nouvelles.\nAider à l’identification de ses représentations\, croyances et résonances personnelles ainsi qu’à leurs incidences dans sa pratique éducative.\nMettre à jour les symétries et asymétries des relations et favoriser d’autres options que le rapport de force.\nPermettre aux accompagnants de trouver\, compte tenu de leur mission\, de leurs compétences et de leurs aptitudes meilleure place auprès de l’usager/patient\nVeiller à différencier : la fonction et la personne\, l’identité et le comportement\, l’être et le faire\, l’intention et l’action…\nContribuer au développement des compétences relationnelles des personnels (communication\, écoute\, gestion des relations).\nRepérer son cadre d’action\, ses champs d’intervention et les différentes articulations au sein de l’équipe.\n\nL’outil et la méthode\nQu’est-ce que l’analyse de la pratique\, qu’est ce que ce n’est pas ?\nDans le travail\, qui plus est dans un travail en relation avec l’humain\, il y a un écart entre ce qui est demandé et ce qui peut être fait ou encore ce qui est fait. Il s’agit d’un écart entre théorie et pratique\, entre ce qui est visible et ce qui ne l’est pas…Et c’est cet espace que l’on va pouvoir explorer en analyse de pratique \nL’objectif ici est de faire parler le métier avec un grand « M »\, le travail\, tel qu’il est pratiqué et pas tel que la théorie le présente. Toute personne\, dans son travail mets une part de subjectivité pour parvenir à faire ce qu’il y a à faire\, pour que cela fonctionne\, « pour bien faire son boulot »\, tel qu’il se le représente. Il s ‘agit alors en groupe\, de parler de ce que l’on fait pour bien faire son travail mais aussi ce qu’on ne fait pas\, ce que l’on voudrait faire mais qu’on ne peut pas faire\, ce qui manque\, ce que l’on fait sans vouloir le faire\, ce que l’on rêverait de faire\, ce que l’on pourrait faire ailleurs\, ce que l’on n’a On met alors ainsi en lumière ce qui n’est pas de l’ordre du prescrit\, les difficultés personnelles\, les souffrances\, les questionnements. \nL’analyse de la pratique encourage le professionnel à descendre de son vélo et à se regarder pédaler. Chacun devient ainsi analyste de sa pratique et de celle de ses pairs. \nL’intervenant\nPsychologue du travail/ Coach diplômé\, il/elle n’est pas expert du métier et propose un espace d’accueil et de mise en mots du vécu professionnel\, sans jugement\, avec neutralité. Il joue alors un rôle de relais catalyseur pour à la décomposition de la pratique en faisant appel à son expertise des dynamiques sociales en jeu\, des effets du transfert et contre transfert dans la relation humaine. \nIl relève alors les points pertinents sur le plan émotionnel et/ou pratique\, relance l’analyse\, reformule les questions posées\, les questions non posées. Il est le garant du cadre et des règles indispensables au bon fonctionnement\, d’un lieu neutre\, sans jugement pour exprimer ses réussites\, ses difficultés\, respecter les différences de point de vue \nConditions préalables  \n==> confidentialité : „ce qui est dit ici n’en sort pas“ \n==> assiduité du groupe (10-12 max) \n==> régularité des réunions (rythme et alternance). \nDates et horaires des séances \n4 octobre 2021 \n8 novembre 2021 \n13 décembre 2021 \n10 janvier 2022 \n7 février 2022 \n7 mars 2022 \nLes séances se tiendront de 9h à 12h via vidéoconférence Zoom ou Teams aussi longtemps que les restrictions sanitaires COVID19 resteront en vigueur. Ceci permettra aux participants de gagner le temps et les frais du déplacement. Cependant les ateliers pourront également se tenir en présentiel selon les instructions du gouvernement. \nSur demande il sera possible de produire une facture au nom de l’institution et de payer par virement bancaire.
URL:https://wellbeingatwork.lu/de/event/aapp-accompagnement-et-analyse-de-la-pratique-professionnelle
CATEGORIES:Enfance Jeunesse,Leadership
ATTACH;FMTTYPE=image/png:https://wellbeingatwork.lu/wp-content/uploads/2021/07/AAPP-slide.png
ORGANIZER;CN="Wellbeing%20At%20Work":MAILTO:info@wellbeing.lu
END:VEVENT
END:VCALENDAR